BEGIN:VCALENDAR
VERSION:2.0
PRODID:-//Tukios.com/
BEGIN:VEVENT
UID:d073fd98-8685-4fb1-833d-4f2ee40f1316@www.aldridgefuneralservices.com
DTSTAMP:20260421T070057Z
DTSTART:20260423T140000Z
DTEND:20260423T150000Z
SUMMARY:Graveside Service
DESCRIPTION:
URL:https://www.aldridgefuneralservices.com/obituaries/gloria-paul
LOCATION:Lebanon Cemetery 323-252 Old Plains Hwy  Plains GA 31780
GEO:32.0271762;-84.4241058
END:VEVENT
END:VCALENDAR