BEGIN:VCALENDAR
VERSION:2.0
PRODID:-//Tukios.com/
BEGIN:VEVENT
UID:842367b5-9991-4358-a9b8-9f4bf1e6b5b8@www.aldridgefuneralservices.com
DTSTAMP:20260421T064809Z
DTSTART:20260422
SUMMARY:Interment
DESCRIPTION:
URL:https://www.aldridgefuneralservices.com/obituaries/elsie-schell
LOCATION: 120 Upper River Rd  Americus GA 31709
GEO:32.0811991;-84.2032125
END:VEVENT
END:VCALENDAR