BEGIN:VCALENDAR
VERSION:2.0
PRODID:-//Tukios.com/
BEGIN:VEVENT
UID:a19772c3-e5df-44e9-8e66-993afbb5e11a@www.aldridgefuneralservices.com
DTSTAMP:20260421T064809Z
DTSTART:20260422T180000Z
DTEND:20260422T190000Z
SUMMARY:Celebration of Life
DESCRIPTION:
URL:https://www.aldridgefuneralservices.com/obituaries/elsie-schell
LOCATION:Bethel Baptist Church 846 Lane Store Road  Americus GA 31709
GEO:32.1054696;-84.0899407
END:VEVENT
END:VCALENDAR