BEGIN:VCALENDAR
VERSION:2.0
PRODID:-//Tukios.com/
BEGIN:VEVENT
UID:380547e2-b29a-4de2-b054-066086ccd1c5@www.aldridgefuneralservices.com
DTSTAMP:20260425T004341Z
DTSTART:20260515T180000Z
DTEND:20260515T190000Z
SUMMARY:Funeral Service
DESCRIPTION:
URL:https://www.aldridgefuneralservices.com/obituaries/betty-ellis
LOCATION:First United Methodist Church of Americus 200 South Lee Street  
	Americus GA 31709
GEO:32.0699064;-84.2310904
END:VEVENT
END:VCALENDAR