BEGIN:VCALENDAR
VERSION:2.0
PRODID:-//Tukios.com/
BEGIN:VEVENT
UID:1cadd3f0-9cb1-4787-a1e3-b4bfd56cbd1a@www.aldridgefuneralservices.com
DTSTAMP:20260425T004538Z
DTSTART:20260515T170000Z
DTEND:20260515T180000Z
SUMMARY:Visitation
DESCRIPTION:
URL:https://www.aldridgefuneralservices.com/obituaries/betty-ellis
LOCATION:First United Methodist Church of Americus 200 South Lee Street  
	Americus GA 31709
GEO:32.0699064;-84.2310904
END:VEVENT
END:VCALENDAR